BEGIN:VCALENDAR
VERSION:2.0
PRODID:-//Mount Olive Lutheran School - ECPv6.15.18//NONSGML v1.0//EN
CALSCALE:GREGORIAN
METHOD:PUBLISH
X-WR-CALNAME:Mount Olive Lutheran School
X-ORIGINAL-URL:https://mountoliveschool.org
X-WR-CALDESC:Events for Mount Olive Lutheran School
REFRESH-INTERVAL;VALUE=DURATION:PT1H
X-Robots-Tag:noindex
X-PUBLISHED-TTL:PT1H
BEGIN:VTIMEZONE
TZID:UTC
BEGIN:STANDARD
TZOFFSETFROM:+0000
TZOFFSETTO:+0000
TZNAME:UTC
DTSTART:20150101T000000
END:STANDARD
END:VTIMEZONE
BEGIN:VEVENT
DTSTART;TZID=UTC:20161027T183000
DTEND;TZID=UTC:20161028T120000
DTSTAMP:20260420T223720
CREATED:20161021T042436Z
LAST-MODIFIED:20161021T042436Z
UID:3524-1477593000-1477656000@mountoliveschool.org
SUMMARY:Star Gazing
DESCRIPTION:
URL:https://mountoliveschool.org/event/star-gazing
END:VEVENT
BEGIN:VEVENT
DTSTART;VALUE=DATE:20161020
DTEND;VALUE=DATE:20161022
DTSTAMP:20260420T223720
CREATED:20161021T042302Z
LAST-MODIFIED:20161024T230359Z
UID:3522-1476921600-1477094399@mountoliveschool.org
SUMMARY:No school - PreK through 8th
DESCRIPTION:
URL:https://mountoliveschool.org/event/no-school-prek-through-8th
END:VEVENT
BEGIN:VEVENT
DTSTART;VALUE=DATE:20161017
DTEND;VALUE=DATE:20161022
DTSTAMP:20260420T223720
CREATED:20161021T042219Z
LAST-MODIFIED:20161024T230325Z
UID:3520-1476662400-1477094399@mountoliveschool.org
SUMMARY:Parent/Teacher Conferences
DESCRIPTION:Parent/teacher conferences will be held all week.
URL:https://mountoliveschool.org/event/parentteacher-conferences
END:VEVENT
END:VCALENDAR